BEGIN:VCALENDAR
VERSION:2.0
PRODID:-//Mississippi Postsecondary SkillsUSA - ECPv6.13.2.1//NONSGML v1.0//EN
CALSCALE:GREGORIAN
METHOD:PUBLISH
X-ORIGINAL-URL:https://mscollegiateskillsusa.org
X-WR-CALDESC:Events for Mississippi Postsecondary SkillsUSA
REFRESH-INTERVAL;VALUE=DURATION:PT1H
X-Robots-Tag:noindex
X-PUBLISHED-TTL:PT1H
BEGIN:VTIMEZONE
TZID:UTC
BEGIN:STANDARD
TZOFFSETFROM:+0000
TZOFFSETTO:+0000
TZNAME:UTC
DTSTART:20250101T000000
END:STANDARD
END:VTIMEZONE
BEGIN:VEVENT
DTSTART;VALUE=DATE:20250113
DTEND;VALUE=DATE:20250215
DTSTAMP:20260424T134019
CREATED:20241211T153110Z
LAST-MODIFIED:20241220T141811Z
UID:958-1736726400-1739577599@mscollegiateskillsusa.org
SUMMARY:2025 Registration Opens for State Leadership and Skills Championship | January 13-February 14\, 2025
DESCRIPTION:Link: Registration for the State Skills & Leadership Conference
URL:https://mscollegiateskillsusa.org/event/2025-registration-opens-for-state-leadership-and-skills-championship-january-13-february-14-2025/
END:VEVENT
END:VCALENDAR