BEGIN:VCALENDAR
VERSION:2.0
PRODID:-//Mississippi Postsecondary SkillsUSA - ECPv6.13.2.1//NONSGML v1.0//EN
CALSCALE:GREGORIAN
METHOD:PUBLISH
X-WR-CALNAME:Mississippi Postsecondary SkillsUSA
X-ORIGINAL-URL:https://mscollegiateskillsusa.org
X-WR-CALDESC:Events for Mississippi Postsecondary SkillsUSA
REFRESH-INTERVAL;VALUE=DURATION:PT1H
X-Robots-Tag:noindex
X-PUBLISHED-TTL:PT1H
BEGIN:VTIMEZONE
TZID:UTC
BEGIN:STANDARD
TZOFFSETFROM:+0000
TZOFFSETTO:+0000
TZNAME:UTC
DTSTART:20240101T000000
END:STANDARD
END:VTIMEZONE
BEGIN:VEVENT
DTSTART;VALUE=DATE:20240402
DTEND;VALUE=DATE:20240405
DTSTAMP:20260425T112734
CREATED:20231216T223637Z
LAST-MODIFIED:20231219T220635Z
UID:16-1712016000-1712275199@mscollegiateskillsusa.org
SUMMARY:2024 State Leadership and Skills Conference (SLSC)
DESCRIPTION:The Collegiate SkillsUSA SLSC will be held at the following locations: \n\nMississippi Trade Mart\nJackson Convention Center\nLocal Businesses and Industry Facilities
URL:https://mscollegiateskillsusa.org/event/2024-state-leadership-and-skills-conference-sclc/
LOCATION:Mississippi Trade Mart\, 1207 Mississippi Street Jackson\, Mississippi 39202\, Jackson\, MS\, 39202\, United States
END:VEVENT
END:VCALENDAR