BEGIN:VCALENDAR
VERSION:2.0
PRODID:-//Mississippi Postsecondary SkillsUSA - ECPv6.13.2.1//NONSGML v1.0//EN
CALSCALE:GREGORIAN
METHOD:PUBLISH
X-WR-CALNAME:Mississippi Postsecondary SkillsUSA
X-ORIGINAL-URL:https://mscollegiateskillsusa.org
X-WR-CALDESC:Events for Mississippi Postsecondary SkillsUSA
REFRESH-INTERVAL;VALUE=DURATION:PT1H
X-Robots-Tag:noindex
X-PUBLISHED-TTL:PT1H
BEGIN:VTIMEZONE
TZID:UTC
BEGIN:STANDARD
TZOFFSETFROM:+0000
TZOFFSETTO:+0000
TZNAME:UTC
DTSTART:20240101T000000
END:STANDARD
END:VTIMEZONE
BEGIN:VEVENT
DTSTART;TZID=UTC:20240624T070000
DTEND;TZID=UTC:20240628T170000
DTSTAMP:20260425T131735
CREATED:20240513T183147Z
LAST-MODIFIED:20240513T183147Z
UID:690-1719212400-1719594000@mscollegiateskillsusa.org
SUMMARY:2024  National Leadership SkillsUSA & Skills Conference
DESCRIPTION:The National Leadership SkillsUSA & Skills Conference \nJune 24-28\, 2024 \nAtlanta\, Georgia \n 
URL:https://mscollegiateskillsusa.org/event/2024-national-leadership-skillsusa-skills-conference/
END:VEVENT
BEGIN:VEVENT
DTSTART;TZID=UTC:20241017T080000
DTEND;TZID=UTC:20241018T170000
DTSTAMP:20260425T131736
CREATED:20240513T184124Z
LAST-MODIFIED:20240513T184752Z
UID:693-1729152000-1729270800@mscollegiateskillsusa.org
SUMMARY:MS Postsecondary Collegiate 2024 Fall Leadership Conference
DESCRIPTION:MS Postsecondary Collegiate 2024 Fall Leadership Conference \nOctober 17-18\, 2024 \nMS Community College – Communiversity Facility \n7003 South Frontage Road \n Columbus\, MS 39701
URL:https://mscollegiateskillsusa.org/event/ms-postsecondary-collegiate-2024-fall-leadership-conference/
END:VEVENT
BEGIN:VEVENT
DTSTART;VALUE=DATE:20250113
DTEND;VALUE=DATE:20250215
DTSTAMP:20260425T131736
CREATED:20241211T153110Z
LAST-MODIFIED:20241220T141811Z
UID:958-1736726400-1739577599@mscollegiateskillsusa.org
SUMMARY:2025 Registration Opens for State Leadership and Skills Championship | January 13-February 14\, 2025
DESCRIPTION:Link: Registration for the State Skills & Leadership Conference
URL:https://mscollegiateskillsusa.org/event/2025-registration-opens-for-state-leadership-and-skills-championship-january-13-february-14-2025/
END:VEVENT
BEGIN:VEVENT
DTSTART;VALUE=DATE:20250401
DTEND;VALUE=DATE:20250404
DTSTAMP:20260425T131736
CREATED:20241211T151804Z
LAST-MODIFIED:20241211T153334Z
UID:956-1743465600-1743724799@mscollegiateskillsusa.org
SUMMARY:2025 SkillsUSA State Leadership and Skills Championships (SLSC) | April 1-3\, 2025
DESCRIPTION:The Postsecondary SkillsUSA SLSC will be held April 1-3\, 2025\, as follows:\nMississippi Trade Mart:\nManufacturing and Construction-related Championships \nJackson Hilton:\nLeadership and Occupationally Related Championships \nDue to space requirements\, specialized equipment\, or time constraints\, championships can be scheduled at business and industry facilities per their availability. Such events include Culinary\, Baking and Pastry\, Cosmetology\, Esthetics\, Nail Care\, Commercial sUAS Drone\, and more. Locations and dates will be shared as Championships are scheduled.
URL:https://mscollegiateskillsusa.org/event/2025-skillsusa-state-leadership-and-skills-championships-slsc-april-1-3-2025/
END:VEVENT
BEGIN:VEVENT
DTSTART;VALUE=DATE:20250623
DTEND;VALUE=DATE:20250628
DTSTAMP:20260425T131736
CREATED:20241211T164150Z
LAST-MODIFIED:20241211T164150Z
UID:964-1750636800-1751068799@mscollegiateskillsusa.org
SUMMARY:2025 National Leadership & Skills Conference | June 23-27\, 2025
DESCRIPTION:The National Leadership & Skills Conference is the ultimate recognition of excellence in career and technical education. This event brings together thousands of students\, instructors\, business partners\, and administrators to celebrate the accomplishments of those preparing for careers in trade\, technical and skilled service occupations\, and it’s an incredible opportunity for students to showcase their talents and skills on the national level. \nYou will have the opportunity to meet other members of SkillsUSA\, gain valuable industry experience\, learn about new technologies and advancements in the field\, and develop your leadership abilities.
URL:https://mscollegiateskillsusa.org/event/2025-national-leadership-skills-conference-june-23-27-2025/
END:VEVENT
BEGIN:VEVENT
DTSTART;VALUE=DATE:20251016
DTEND;VALUE=DATE:20251018
DTSTAMP:20260425T131736
CREATED:20250703T170007Z
LAST-MODIFIED:20250912T190216Z
UID:1727-1760572800-1760745599@mscollegiateskillsusa.org
SUMMARY:2025 Fall Leadership Conference | October 16-17\, 2025
DESCRIPTION:To learn more about the 2025 Mississippi Postsecondary/Collegiate Fall Leadership Conference  \nvisit the event website.
URL:https://mscollegiateskillsusa.org/event/2025-fall-leadership-conference-october-16-17-2025/
END:VEVENT
BEGIN:VEVENT
DTSTART;VALUE=DATE:20260331
DTEND;VALUE=DATE:20260403
DTSTAMP:20260425T131736
CREATED:20250913T013851Z
LAST-MODIFIED:20251027T225851Z
UID:1846-1774915200-1775174399@mscollegiateskillsusa.org
SUMMARY:State Leadership & Skills Conference | Jackson\, MS I March 31 - April 2\, 2026
DESCRIPTION:
URL:https://mscollegiateskillsusa.org/event/state-leadership-skills-conference-jackson-ms-i-april-1-2-2026/
END:VEVENT
BEGIN:VEVENT
DTSTART;VALUE=DATE:20260601
DTEND;VALUE=DATE:20260606
DTSTAMP:20260425T131736
CREATED:20250703T165247Z
LAST-MODIFIED:20250703T165247Z
UID:1725-1780272000-1780703999@mscollegiateskillsusa.org
SUMMARY:SkillsUSA National Leadership & Skills Conference (NLSC) | June 1-5\, 2026 | Atlanta\, GA
DESCRIPTION:The SkillsUSA Championships is held from Tuesday-Thursday during the SkillsUSA National Leadership & Skills Conference (NLSC). The NLSC will be held in Atlanta through 2026 on the following dates: June 1-5\, 2026 | Atlanta\, GA
URL:https://mscollegiateskillsusa.org/event/skillsusa-national-leadership-skills-conference-nlsc-june-1-5-2026-atlanta-ga/
END:VEVENT
END:VCALENDAR